{"text_format":"3","workbook":"xlsx","n_sheets":3,"sheets":["Spirlastberäkning","Dubblering spira","Vindlastberäkning"],"not_rendered":{"images":18,"defined_names":3},"read":"whole","date_system":"1900"}

{"sheet":"Spirlastberäkning","index":0,"n_rows":325,"n_cols":10,"rows_kept":325,"merged":[[1,1,2,3],[1,4,2,6]]}
["Arbetsplats:","Höjd",null,"Längd:",null,"Bredd:"]
[null,"Innerspira",null,null,"Ytterspira"]
[]
[]
["Ställningsmaterial:","antal ","kg","totalt","antal","kg","totalt"]
[null,null,{"$f":"VLOOKUP(A6,B72:C325,2,0)","v":{"$error":"#N/A"}},{"$f":"SUM(B6*C6)","v":{"$error":"#N/A"}},null,{"$f":"VLOOKUP(A6,B72:C325,2,0)","v":{"$error":"#N/A"}},{"$f":"SUM(E6*F6)","v":{"$error":"#N/A"}},"Största egenvikt",1,{"$f":"LARGE(D31:G31,I6)","v":{"$error":"#N/A"}}]
[null,null,{"$f":"VLOOKUP(A7,B72:C325,2,0)","v":{"$error":"#N/A"}},{"$f":"SUM(B7*C7)","v":{"$error":"#N/A"}},null,{"$f":"VLOOKUP(A7,B72:C325,2,0)","v":{"$error":"#N/A"}},{"$f":"SUM(E7*F7)","v":{"$error":"#N/A"}},"Största nyttolast",1,{"$f":"LARGE(D34:G34,I7)","v":0}]
[null,null,{"$f":"VLOOKUP(A8,B72:C325,2,0)","v":{"$error":"#N/A"}},{"$error":"#N/A"},null,{"$f":"VLOOKUP(A8,B72:C325,2,0)","v":{"$error":"#N/A"}},{"$f":"SUM(E8*F8)","v":{"$error":"#N/A"}}]
[null,null,{"$f":"VLOOKUP(A9,B72:C325,2,0)","v":{"$error":"#N/A"}},{"$error":"#N/A"},null,{"$f":"VLOOKUP(A9,B72:C325,2,0)","v":{"$error":"#N/A"}},{"$error":"#N/A"}]
[null,null,{"$f":"VLOOKUP(A10,B72:C325,2,0)","v":{"$error":"#N/A"}},{"$error":"#N/A"},null,{"$f":"VLOOKUP(A10,B72:C325,2,0)","v":{"$error":"#N/A"}},{"$error":"#N/A"}]
[null,null,{"$f":"VLOOKUP(A11,B72:C325,2,0)","v":{"$error":"#N/A"}},{"$error":"#N/A"},null,{"$f":"VLOOKUP(A11,B72:C325,2,0)","v":{"$error":"#N/A"}},{"$error":"#N/A"}]
[null,null,{"$f":"VLOOKUP(A12,B72:C325,2,0)","v":{"$error":"#N/A"}},{"$error":"#N/A"},null,{"$f":"VLOOKUP(A12,B72:C325,2,0)","v":{"$error":"#N/A"}},{"$error":"#N/A"}]
[null,null,{"$f":"VLOOKUP(A13,B72:C325,2,0)","v":{"$error":"#N/A"}},{"$error":"#N/A"},null,{"$f":"VLOOKUP(A13,B72:C325,2,0)","v":{"$error":"#N/A"}},{"$error":"#N/A"}]
[null,null,{"$f":"VLOOKUP(A14,B72:C325,2,0)","v":{"$error":"#N/A"}},{"$error":"#N/A"},null,{"$f":"VLOOKUP(A14,B72:C325,2,0)","v":{"$error":"#N/A"}},{"$error":"#N/A"}]
[null,null,{"$f":"VLOOKUP(A15,B72:C325,2,0)","v":{"$error":"#N/A"}},{"$error":"#N/A"},null,{"$f":"VLOOKUP(A15,B72:C325,2,0)","v":{"$error":"#N/A"}},{"$error":"#N/A"}]
[null,null,{"$f":"VLOOKUP(A16,B72:C325,2,0)","v":{"$error":"#N/A"}},{"$error":"#N/A"},null,{"$f":"VLOOKUP(A16,B72:C325,2,0)","v":{"$error":"#N/A"}},{"$error":"#N/A"}]
[null,null,{"$f":"VLOOKUP(A17,B72:C325,2,0)","v":{"$error":"#N/A"}},{"$error":"#N/A"},null,{"$f":"VLOOKUP(A17,B72:C325,2,0)","v":{"$error":"#N/A"}},{"$error":"#N/A"}]
[null,null,{"$f":"VLOOKUP(A18,B72:C325,2,0)","v":{"$error":"#N/A"}},{"$error":"#N/A"},null,{"$f":"VLOOKUP(A18,B72:C325,2,0)","v":{"$error":"#N/A"}},{"$error":"#N/A"}]
[null,null,{"$f":"VLOOKUP(A19,B72:C325,2,0)","v":{"$error":"#N/A"}},{"$error":"#N/A"},null,{"$f":"VLOOKUP(A19,B72:C325,2,0)","v":{"$error":"#N/A"}},{"$error":"#N/A"}]
[null,null,{"$f":"VLOOKUP(A20,B72:C325,2,0)","v":{"$error":"#N/A"}},{"$error":"#N/A"},null,{"$f":"VLOOKUP(A20,B72:C325,2,0)","v":{"$error":"#N/A"}},{"$error":"#N/A"}]
[null,null,{"$f":"VLOOKUP(A21,B72:C325,2,0)","v":{"$error":"#N/A"}},{"$error":"#N/A"},null,{"$f":"VLOOKUP(A21,B72:C325,2,0)","v":{"$error":"#N/A"}},{"$error":"#N/A"}]
[null,null,{"$f":"VLOOKUP(A22,B72:C325,2,0)","v":{"$error":"#N/A"}},{"$error":"#N/A"},null,{"$f":"VLOOKUP(A22,B72:C325,2,0)","v":{"$error":"#N/A"}},{"$f":"SUM(E22*F22)","v":{"$error":"#N/A"}}]
[null,null,{"$f":"VLOOKUP(A23,B72:C325,2,0)","v":{"$error":"#N/A"}},{"$error":"#N/A"},null,{"$f":"VLOOKUP(A23,B72:C325,2,0)","v":{"$error":"#N/A"}},{"$f":"SUM(E23*F23)","v":{"$error":"#N/A"}}]
[null,null,{"$f":"VLOOKUP(A24,B72:C325,2,0)","v":{"$error":"#N/A"}},{"$error":"#N/A"},null,{"$f":"VLOOKUP(A24,B72:C325,2,0)","v":{"$error":"#N/A"}},{"$f":"SUM(E24*F24)","v":{"$error":"#N/A"}}]
[null,null,{"$f":"VLOOKUP(A25,B72:C325,2,0)","v":{"$error":"#N/A"}},{"$error":"#N/A"},null,{"$f":"VLOOKUP(A25,B72:C325,2,0)","v":{"$error":"#N/A"}},{"$f":"SUM(E25*F25)","v":{"$error":"#N/A"}}]
[null,null,{"$f":"VLOOKUP(A26,B72:C325,2,0)","v":{"$error":"#N/A"}},{"$error":"#N/A"},null,{"$f":"VLOOKUP(A26,B72:C325,2,0)","v":{"$error":"#N/A"}},{"$f":"SUM(E26*F26)","v":{"$error":"#N/A"}}]
[null,null,{"$f":"VLOOKUP(A27,B72:C325,2,0)","v":{"$error":"#N/A"}},{"$error":"#N/A"},null,{"$f":"VLOOKUP(A27,B72:C325,2,0)","v":{"$error":"#N/A"}},{"$f":"SUM(E27*F27)","v":{"$error":"#N/A"}}]
[null,null,{"$f":"VLOOKUP(A28,B72:C325,2,0)","v":{"$error":"#N/A"}},{"$error":"#N/A"},null,{"$f":"VLOOKUP(A28,B72:C325,2,0)","v":{"$error":"#N/A"}},{"$f":"SUM(E28*F28)","v":{"$error":"#N/A"}}]
[null,null,{"$f":"VLOOKUP(A29,B72:C325,2,0)","v":{"$error":"#N/A"}},{"$error":"#N/A"},null,{"$f":"VLOOKUP(A29,B72:C325,2,0)","v":{"$error":"#N/A"}},{"$f":"SUM(E29*F29)","v":{"$error":"#N/A"}}]
[null,null,{"$f":"VLOOKUP(A30,B72:C325,2,0)","v":{"$error":"#N/A"}},{"$error":"#N/A"},null,{"$f":"VLOOKUP(A30,B72:C325,2,0)","v":{"$error":"#N/A"}},{"$f":"SUM(E30*F30)","v":{"$error":"#N/A"}}]
["Summa total egenvikt",null,null,{"$f":"SUM(D6:D30)","v":{"$error":"#N/A"}},null,null,{"$f":"SUM(G6:G30)","v":{"$error":"#N/A"}}]
[null,"Kvm","Kg/kvm",null,"Kvm","Kg/kvm"]
["Nyttig last (tex. lastklass 3) ",null,null,{"$f":"SUM(B33*C33)","v":0},null,null,{"$f":"SUM(E33*F33)","v":0}]
["Antal belastade bomlag",null,null,{"$f":"SUM(B34*D33)","v":0},null,null,{"$f":"SUM(B34*G33)","v":0}]
["Summa total egenvikt inkl. nyttig last i kg.",null,null,{"$f":"SUM(D34+D31)","v":{"$error":"#N/A"}},null,null,{"$f":"SUM(G34+G31)","v":{"$error":"#N/A"}}]
["Total last på spira kN",null,null,{"$f":"SUM(D35/100)","v":{"$error":"#N/A"}},null,null,{"$f":"SUM(G35/100)","v":{"$error":"#N/A"}}]
["Godkänd tillåten spirlast kN",null,null,{"v":15.8,"d":"15.80"},null,null,{"v":15.8,"d":"15.80"}]
[]
[null,null,"Bredd underpallning m",{"v":0.2,"d":"0.20"},null,"Bredd underpallning m",{"v":0.2,"d":"0.20"}]
[null,"Bärighet\nmark kN","Area\nunderpallning\ninkl. Gamma F 1,5","Längd \nunderpallning",null,"Area\nUnderpallning","Längd\nUnderpallning"]
[null,300,{"$f":"SUM(D36*1.5)/B41","v":{"$error":"#N/A"}},{"$f":"SUM(C41/D39)","v":{"$error":"#N/A"}},null,{"$f":"SUM(G36*1.5)/B41","v":{"$error":"#N/A"}},{"$f":"SUM(F41/G39)","v":{"$error":"#N/A"}}]
[]
[{"$nulls":3},"Bärighet underlag:"]
[{"$nulls":3},"Betong*, Berg"]
[{"$nulls":3},"Grus och sten",500,"kN/kvm"]
[{"$nulls":3},"Asfalt väg",500,"kN/kvm"]
[{"$nulls":3},"Grov sand packad",350,"kN/kvm"]
[{"$nulls":3},"Asfalt trottoar-"]
[{"$nulls":3},"parkeringsplats, innergård",300,"kN/kvm"]
[{"$nulls":3},"Fin sand packad",250,"kN/kvm"]
[{"$nulls":3},"Lös sand",125,"kN/kvm"]
[{"$nulls":3},"Lera",80,"kN/kvm"]
[{"$nulls":3},"*OBS: Detta gäller inte betongvalv."]
{"$rows_empty":17}
["Art. nr","Benämning","á-vikt"]
[null,null,{"v":0,"d":"0.0"}]
["2602000","Bottendetalj",1.41]
["4001040","Bottenskruv 0,40 m",2.9]
["4001060","Bottenskruv röd  0.60",3.6]
["4002080","Bottenskruv Blå 0,80 m",4.9]
["4003000","Bottenskruv m ledad fotplatta",6.1]
[]
["2617050","AR LW Spira 0,5 m",2.7]
["2617100","AR LW Spira 1,0 m",4.9]
["2617150","AR LW Spira 1,5 m",7.1]
["2617200","AR LW Spira 2,0 m",9.3]
["2617250","AR LW Spira 2,5 m",11.5]
["2617300","AR LW Spira 3,0 m",13.7]
["2617400","AR LW Spira 4,0 m",18.1]
[]
["2619050","AR LW Spira u tapp 0,5 m",2.5]
["2619100","AR LW Spira u tapp 1,0 m",4.6]
["2619150","AR LW Spira u tapp 1,5 m",6.6]
["2619200","AR LW Spira u tapp 2,0 m",8.8]
["2619250","AR LW Spira u tapp 2,5 m",11.7]
["2619300","AR LW Spira u tapp 3,0 m",13.71]
[]
["2601073","AR LW Horisontalstag 0,73 m",2.9]
["2601109","AR LW Horisontalstag 1,09 m",4]
["2601140","AR LW Horisontalstag 1,40 m",5]
["2601157","AR LW Horisontalstag 1,57 m",5.5]
["2601207","AR LW Horisontalstag 2,07 m",7]
["2601257","AR LW Horisontalstag 2,57 m",8.5]
["2601307","AR LW Horisontalstag 3,07 m",10.1]
[]
["2624157","Horisontalbalk 1,57 m",9.36]
["2624207","Horisontalbalk 2,07 m",12.1]
["2624257","Horisontalbalk 2,57 m",15.16]
["2624307","Horisontalbalk 3,07 m",17.6]
[]
["2613073","U-Tvärbom 0,73 m",3.06]
["2613108","AR LW U-Tvärbom 1,09 m",4.4]
["2613139","AR LW U-Tvärbom 1,40 m",5.35]
["2613109","U-Tvärbom 1,09 m förstärkt",5.7]
["2613140","U-Tvärbom 1,40 m förstärkt",7.5]
["2613157","AR LW U-Tvärbom 1,57 m först.",9.4]
["2613207","AR LW U-Tvärbom 2,07 m först.",12.7]
["2613257","AR LW U-Tvärbom 2,57 m först.",15.7]
["2613307","AR LW U-Tvärbom 3,07 m först.",19]
[]
["0709354","Konsol 0,15m",0.85]
["0702530","Konsol 0,23 m f SP 0,19 AR",1.4]
["2630019","Konsol 0,28 m f.SP 0,19 m.tapp",3.4]
["0709524","Konsol 0,36m u tapp",3.3]
["2630039","Konsol 0,39 m f. SP 0,32",3.9]
["0702387","Konsol 0,59 m SP 0,19+0,32 AR",6.1]
["2630073","Konsol 0,73 m f. SP 0,32+0,32",6.4]
["2630109","Konsol 1,09 m f. SP 0,32 x 3",12]
[]
["2630038","RR-Konsol 0,36 m utan tapp",3.4]
["2631039","RR-konsol 0,39 m",3.9]
["2631073","RR-konsol 0,73 m",6.8]
["2631109","RR-konsol 1,09 m",12]
[]
["3801073","Stålplank 0,73 x 0,19 m",5.1]
["3801109","Stålplank 1,09 x 0,19 m",6.4]
["3801140","Stålplank 1,40 x 0,19 m",8]
["3801157","Stålplank 1,57 x 0,19 m",8.5]
["3801207","Stålplank 2,07 x 0,19 m",10.2]
["3801257","Stålplank 2,57 x 0,19 m",13.2]
["3801307","Stålplank 3,07 x 0,19 m",15.3]
[]
["3812073","T4 Stålplank 0,73 x 0,32 m",6]
["3812109","T4 Stålplank 1,09 x 0,32 m",8.4]
["3802140","Stålplank 1,40 x 0,32 m",10.6]
["3812157","T4 Stålplank 1,57 x 0,32 m",11.9]
["3812207","T4 Stålplank 2,07 x 0,32 m",15]
["3812257","T4 Stålplank 2,57 x 0,32 m",18.2]
["3812307","T4 Stålplank 3,07 x 0,32 m",21.5]
[]
["3824157","Aluplank 1,57 x 0,19 m",4.6]
["3824207","Aluplank 2,07 x 0,19 m",6]
["3824257","Aluplank 2,57 x 0,19 m",6.8]
[]
["3803073","Aluplank 0,73 x 0,32 m",3.1]
["3803109","Aluplank 1,09 x 0,32 m",4.4]
["3803157","Aluplank 1,57 x 0,32 m",6.5]
["3803207","Aluplank 2,07 x 0,32 m",8]
["3803257","Aluplank 2,57 x 0,32 m",10]
["3803307","Aluplank 3,07 x 0,32 m",11.5]
[]
["3836157","Robustplanka 1,57 x 0,32 m",9.9]
["3836207","Robustplanka 2,07 x 0,32 m",11.5]
["3836257","Robustplanka 2,57 x 0,32 m",14.7]
["3836307","Robustplanka 3,07 x 0,32 m",16]
[]
["3835073","Robustplattform 0,73 x 0,61 m",7.2]
["3835109","Robustplattform 1,09 x 0,61 m",9.7]
["3835157","Robustplattform 1,57 x 0,61 m",13.1]
["3835207","Robustplattform 2,07 x 0,61 m",16.4]
["3835257","Robustplattform 2,57 x 0,61 m",19.3]
[]
["3837157","Robustplf.m.lucka 1,57x0,61 m",14.2]
["3837207","Robustplf.m.lucka 2,07x0,61 m",17.2]
["3837257","Robustplf.m.lucka 2,57x0,61 m",20.5]
[]
["3858307","Robustplattform 3,07 med förskjuten lucka",24.6]
["3835307","Robustplattform 3,07 x 0,61 m",24.2]
["3847257","Robustplf 3KN m lucka 2,57",26.7]
["3858157","Robustplf m förskjut. lucka 1,57 m",14.2]
["3859257","Robustplf m förskjut. st 2,57",25.2]
["3859307","Robustplf m förskjut. st 3,07",28.4]
["3838257","Robustplf m lucka & steg. 2,57",24]
[]
["2635073","Plattformslås 0,73 m T8",1.3]
["2635109","Plattformslås 1,09 m T8",1.8]
["2658140","Plattformslås 1,40 m förstärkt",5.3]
["2635140","Plattformslås 1,40 m T8",2.5]
["2657157","Plattformslås 1,57 m förstärkt",5.53]
["2635157","Plattformslås 1,57 m T8",3]
["2658157","AR Plattformslås 1,57 m förstärkt T9",5.9]
["2658207","Plattformslås 2,07 m förstärkt",7.9]
["2658257","Plattformslås 2,57 m förstärkt",9.9]
["2658307","Plattformslås 3,07 m förstärkt",11.9]
[]
["2641073","Alu-sparklist 0,73 m AR",1.5]
["2641109","Alu-sparklist 1,09 AR",2.2]
["2641140","Alu-sparklist 1,40 AR",2.9]
["2641157","Alu-sparklist 1,57 m AR",3.1]
["2641207","Alu-sparklist 2,07 m AR",3.25]
["2641257","Alu-sparklist 2,57 m AR",4.1]
["2641307","Alu-sparklist 3,07 m AR",4.9]
[]
["2642073","RR-Sparklist 0,73 m",1.5]
["2642109","RR-Sparklist 1,09 m",2.5]
["2642140","RR-Sparklist 1,40 m",3.4]
["2642207","RR-Sparklist 2,07 m",4.3]
["2642257","RR-Sparklist 2,57 m",5.7]
["2642307","RR-Sparklist 3,07 m",6.3]
[]
["2640073","Sparklist 0,73 m AR",1.5]
["2667073","Sparklist 0,73m T10 AR",1.5]
["2640109","Sparklist 1,09 m AR",2.5]
["2667109","Sparklist 1,09m T10 AR",2.5]
["2640140","Sparklist 1,40 m AR",3.5]
["2667140","Sparklist 1,40m T10 AR",3.4]
["2640157","Sparklist 1,57 m AR",3.5]
["2667157","Sparklist 1,57m T10 AR",3.5]
["2640207","Sparklist 2,07 m AR",4.6]
["2667207","Sparklist 2,07m T10 AR",4.6]
["2640257","Sparklist 2,57 m AR",5.7]
["2667257","Sparklist 2,57m T10 AR",5.7]
["2640307","Sparklist 3,07 m AR",7.1]
["2667307","Sparklist 3,07m T10 AR",7.1]
[]
["2620073","Diagonalstag 0,73 x 2,0 m",6.8]
["2621008","Diagonalstag 1,09 x 0,50m",4]
["2621006","Diagonalstag 1,09 x 1,0m",4.8]
["2621007","Diagonalstag 1,09 x 1,5m",5.8]
["2620109","Diagonalstag 1,09 x 2,0 m",7]
["2621017","Diagonalstag 1,40 x 1,0 m",5.8]
["2621018","Diagonalstag 1,40 x 1,5 m",6.8]
["2620140","Diagonalstag 1,40 x 2,0 m",7.5]
["5606050","Diagonalstag 1,57 x 0,50 m AR",5.7]
["5606100","Diagonalstag 1,57 x 1,00 m AR",6.3]
["5606150","Diagonalstag 1,57 x 1,50 m AR",7.3]
["2620157","Diagonalstag 1,57 x 2,0 m",7.7]
["5504200","Diagonalstag 2,07 x 0,50 m AR",7.8]
["5609050","Diagonalstag 2,07 x 0,50 m AR",7.2]
["5609100","Diagonalstag 2,07 x 1,00 m AR",7.4]
["5609150","Diagonalstag 2,07 x 1,50 m AR",8.22]
["2620207","Diagonalstag 2,07 x 2,0 m",8.85]
["5607050","Diagonalstag 2,57 x 0,50 m AR",8.4]
["5607100","Diagonalstag 2,57 x 1,00 m AR",8.8]
["5607150","Diagonalstag 2,57 x 1,50 m AR",9.5]
["2620257","Diagonalstag 2,57 x 2,0 m",9.5]
["5610050","Diagonalstag 3,07 x 0,50 m AR",9.6]
["5610100","Diagonalstag 3,07 x 1,00 m AR",9.9]
["5610150","Diagonalstag 3,07 x 1,50 m",10.45]
["2620307","Diagonalstag 3,07 x 2,0 m",10.5]
["2631205","AR-Diagonal.för konsol 0,73 m",8.8]
[]
["8310030","Förankringsrör 0,30 m vfz",1]
["1754038","Förankringsrör 0,38 m vfz",1.6]
["8310050","Förankringsrör 0,50 m vfz",2]
["8310065","Förankringsrör 0,65 m vfz",2.5]
["8310075","Förankringsrör 0,75 m vfz",3]
["8310100","Förankringsrör 1,00 m vfz",4]
["8310120","Förankringsrör 1,20 m vfz",4.8]
[]
["1753257","T4 Trappa,Alu 2,57 f u-bom",21.9]
["1753258","T4 Trappa,Alu 2,57x0,94 u-bom",33.7]
["1753307","T4 Trappa,Alu 3,07 f.u-bom",26.3]
["1753308","Trappa,Alu 3,07 x 0,94 f.u-bom",40.1]
[]
["2638258","Trappräcke 2,57 med kilkoppl.",18.1]
["2638308","Trappräcke 3,07 med kilkoppl.",20.1]
[]
["2663157","Skyddsnätsgrind 1,57 x 1,0 AR",16.5]
["2663207","Skyddsnätsgrind 2,07 x 1,0 AR",19.5]
["2663257","Skyddsnätsgrind 2,57 x 1,0 AR",23]
["2663307","Skyddsnätsgrind 3,07 x 1,0 AR",26.3]
[]
["5980073","Väggkassett plåt 0,73 x 1,0 m",7.71]
["5980100","Väggkassett plåt 1,0 x 1,0 m",10]
["5980109","Väggkassett plåt 1,09 x 1,0 m",10.5]
["5980157","Väggkassett plåt 1,57 x 1,0 m",14.3]
["5980200","Väggkassett plåt 2,00 x 1,0 m",18]
["5980207","Väggkassett plåt 2,07 x 1,0 m",18.2]
["5980257","Väggkassett plåt 2,57 x 1,0 m",22.2]
["5980307","Väggkassett plåt 3,07 x 1,0 m",27.2]
["5980308","Väggkassett plåt 3,07 x 1,0 m T16",27.2]
["5981073","Väggkassett plast 0,73 x 1,0 m",5.2]
["5981109","Väggkassett plast 1,09 x 1,0 m",7.1]
["5981157","Väggkassett plast 1,57 x 1,0 m",8.9]
["5981207","Väggkassett plast 2,07 x 1,0 m",10.9]
["5981257","Väggkassett plast 2,57 x 1,0 m",12.9]
["5981307","Väggkassett plast 3,07 x 1,0 m",14.9]
[]
["2602022","Allroundkrans",1.19]
["2628000","Kilkoppling dubbel",1.16]
["2656000","Skarvtapp f U-profil",1.8]
["4005007","Stålstege 2,15 m",7.8]
["4706022","Skarvtapp m. halv koppling",1.81]
[]
["4701023","Normalkoppling 48,3 mm",1.3]
["4702023","Vridkoppling",1.5]
[]
["4600100","Ställn.rör 1,0 m 48,3 x 4,0 mm",4.5]
["4600200","Ställn.rör 2,0 m 48,3 x 4,0 mm",9]
["4600300","Ställn.rör 3,0 m 48,3 x 4,0 mm",13.5]
["4600350","Ställn.rör 3,5 m 48,3 x 4,0 mm",15.8]
["4600400","Ställn.rör 4,0 m 48,3 x 4,0 mm",16.72]
["4600450","Ställn.rör 4,5 m 48,3 x 4,0 mm",20.3]
["4600500","Ställn.rör 5,0 m 48,3 x 4,0 mm",22.7]
["4600600","Ställn.rör 6,0 m 48,3 x 4,0 mm",25]
[]
["2658414","Fackverk stål 4,14 m AR",41.61]
["2658514","Fackverk stål 5,14 m AR",51.5]
["2658614","Fackverk stål 6,14 m AR",59.95]
["2658771","Fackverk stål 7,71 m AR",76.99]
[]
["2659257","RR-Fackverk Stål 2,57 m AR",30.3]
["2659414","RR-Fackverk Stål 4,14 m AR",44]
[]
["2673207","AR LW U-Fackverk stål 2,07 m",21.4]
["2673257","AR LW U-Fackverk stål 2,57 m",24.9]
["2673307","AR LW U-Fackverk stål 3,07 m",31.9]
["2673414","AR LW U-Fackverk stål 4,14 m",40]
["2673514","AR LW U-Fackverk stål 5,14 m",51.2]
["2673614","AR LW U-Fackverk stål 6,14 m",60.5]
["2659771","AR RR-Fackverk Stål 7,71 m",82.5]
[]
["2656207","U-Fackverk stål 2,07 m AR",23.4]
["2656257","U-Fackverk stål 2,57 m AR",29.5]
["2656307","U-Fackverk stål 3,07 m AR",35.6]
["2656414","U-Fackverk stål 4,14 m AR",44]
["2656514","U-Fackverk stål 5,14 m AR",54.1]
["2656614","U-Fackverk stål 6,14 m AR",62.5]

{"sheet":"Dubblering spira","index":1,"n_rows":22,"n_cols":8,"rows_kept":22,"merged":[[1,5,1,7],[2,5,2,7],[3,5,3,7],[7,5,9,7],[9,0,9,2]]}
["Beräkning dubblering innerspira",{"$nulls":4},"Arbetsplats:"]
[{"$nulls":5},{"$f":"Spirlastberäkning!A2","v":0}]
["Meter ställningsspira",{"$f":"Spirlastberäkning!C1","v":{"v":0,"d":"0.00"}},"m",null,null,{"$f":"Spirlastberäkning!A3","v":0}]
["Tillåten spirlast",{"$f":"Spirlastberäkning!D37","v":{"v":15.8,"d":"15.80"}},"kN",null,null,{"$f":"Spirlastberäkning!A4","v":0}]
["Egenvikt",{"$f":"Spirlastberäkning!J6/100","v":{"$error":"#N/A"}},"kN"]
["Nyttolast",{"$f":"Spirlastberäkning!J7/100","v":{"v":0,"d":"0.00"}},"kN"]
[]
["Total spirlast (egenvikt + nyttolast)",null,null,{"$f":"SUM(B5+B6)","v":{"$error":"#N/A"}},"kN","        OBS: Total spirlast får inte överstiga max. godkänd spirlast dubblering"]
[]
["Max. godkänd spirlast dubblering (Ttllåten spirlast x säkerhetsfaktor 1,5)",null,null,{"$f":"SUM(B4*1.5)","v":{"v":23.700000000000003,"d":"23.70"}},"kN"]
[]
[{"$nulls":3},"Total egenvikt kN",null,"Meter ställningsspira",null,"Vikt per meter spira"]
["Egenvikt per meter spira ",null,null,{"$f":"SUM(B5)","v":{"$error":"#N/A"}},"÷",{"$f":"SUM(B3)","v":{"v":0,"d":"0.00"}},"=",{"$f":"SUM(D13/F13)","v":{"$error":"#N/A"}}]
[]
[{"$nulls":3},"Tillåten spirlast kN",null,"Total nyttolast kN",null,"Återstående tillåten spirlast kN"]
["Nyttolast reducering tillåten spirlast",null,null,{"$f":"SUM(B4)","v":{"v":15.8,"d":"15.80"}},"−",{"$f":"SUM(B6)","v":{"v":0,"d":"0.00"}},"=",{"$f":"SUM(D16-F16)","v":{"v":15.8,"d":"15.80"}}]
[]
[{"$nulls":3},"Återstående tillåten spirlast kN",null,"Vikt per meter spira",null,"Antal meter inom tillåten spirlast"]
["Antal meter tillåten egenvikt",null,null,{"$f":"SUM(H16)","v":{"v":15.8,"d":"15.80"}},"÷",{"$f":"SUM(H13)","v":{"$error":"#N/A"}},"=",{"$f":"SUM(D19/F19)","v":{"$error":"#N/A"}}]
[]
[{"$nulls":3},"Totalhöjd spira",null,"Antal meter tillåten spirlast",null,"Antal meter dubblering från mark"]
["Antal meter dubblering spira",null,null,{"$f":"SUM(B3)","v":{"v":0,"d":"0.00"}},"−",{"$f":"SUM(H19)","v":{"$error":"#N/A"}},"=",{"$f":"SUM(D22-F22)","v":{"$error":"#N/A"}}]

{"sheet":"Vindlastberäkning","index":2,"n_rows":7,"n_cols":11,"rows_kept":7}
["Arbetsplats:","Area förankring m²",{"$f":"SUM(C2*C3)","v":{"v":0,"d":"0.00"}},"Referensvindhastighet m/s",null,"Terrängtyp",null,"Karakteristiskt hastighetstryck qp kN/m²",null,null,{"$f":"I1*I3","v":0}]
[{"$f":"Spirlastberäkning!A2","v":0},"Höjd i meter:"]
[{"$f":"Spirlastberäkning!A3","v":0},"Bredd i meter:",null,"Formfaktor Cf ⊥",1.3,"Lägesfaktor Cs",1,"Reduktionsfaktor Rf",0.7]
[{"$f":"Spirlastberäkning!A4","v":0}]
[null,"Beräknad kraft i förankring",{"$f":"SUM(E3*C1*K1)*G3","v":{"v":0,"d":"0.00"}},"kN"]
[null,"Säkerhetsfaktor Gamma F",1.5]
[null,"Beräknad kraft i infästning",{"$f":"SUM(C5*C6)","v":{"v":0,"d":"0.00"}},"kN"]